Workbook

Sheet 1. Revenue
B4: Groups / Metrics | C4: Comments | D4: Source | E4: Sparklines | F4: Units | G4: Initial / Base | H4: 1996 | I4: 1997 | J4: 1998 | K4: 1999 | L4: 2000 | M4: 2001 | N4: 2002 | O4: 2003 | P4: 2004 | Q4: 2005 | R4: 2006 | S4: 2007 | T4: 2008 | U4: 2009 | V4: 2010 | W4: 2011 | X4: 2012 | Y4: 2013 | Z4: 2014 | AA4: 2015 | AB4: 2016 | AC4: 2017 | AD4: 2018 | AE4: 2019 | AF4: 2020 | AG4: 2021 | AH4: 2022 | AI4: 2023F | AJ4: 2024F | AK4: 2025F | AL4: 2026F
B5: Month | H5: 1 | I5: 2 | J5: 3 | K5: 4 | L5: 5 | M5: 6 | N5: 7 | O5: 8 | P5: 9 | Q5: 10 | R5: 11 | S5: 12 | T5: 13 | U5: 14 | V5: 15 | W5: 16 | X5: 17 | Y5: 18 | Z5: 19 | AA5: 20 | AB5: 21 | AC5: 22 | AD5: 23 | AE5: 24 | AF5: 25 | AG5: 26 | AH5: 27 | AI5: 28 | AJ5: 29 | AK5: 30 | AL5: 31
B7: General Inputs
B8: Inflation (CPI Percentage Change) | D8: Calculations | F8: % per year | G8: ='Calc. Inflation (CPI)'!$C$21 -> 0.046293447
B9: Mobile application parenting market size worldwide | D9: Statista - Parenting Market Size | F9: k USD | AI9: - | AJ9: 588000 | AK9: 633000 | AL9: 681000
B11: General Outputs
B12: Market Size | F12: k ppl | AI12: =AI34 -> 18192.702 | AJ12: =AJ34 -> 18270.931 | AK12: =AK34 -> 18349.16 | AL12: =AL34 -> 18427.389
B13: Our Revenue (Model 1: Top Down) | F13: USD | AI13: - | AJ13: =SUM(AI49:AT49) -> 289961.08 | AK13: =SUM(AU49:BF49) -> 2829202.5 | AL13: =SUM(BG49:BR49) -> 7351954.1
B14: Our Revenue (Model 2: Bottom Up) | F14: USD | AI14: - | AJ14: =SUM(AI56:AT56) -> 297559.53 | AK14: =SUM(AU56:BF56) -> 2974510.9 | AL14: =SUM(BG56:BR56) -> 7914009.9
B15: Benchmark: Similar app annual revenue | C15: "Boop Kids" - Smart Parenting, 2022 | D15: Statista - Parenting App Revenues | F15: USD | G15: 2432016
B18: Market Size
B19: Number of families | F19: k ppl | H19: =SUM(H20:H21) -> 69590 | I19: =SUM(I20:I21) -> 70240 | J19: =SUM(J20:J21) -> 70880 | K19: =SUM(K20:K21) -> 71540 | L19: =SUM(L20:L21) -> 72030 | M19: =SUM(M20:M21) -> 73770 | N19: =SUM(N20:N21) -> 74330 | O19: =SUM(O20:O21) -> 75600 | ... AL19: =SUM(AL20:AL21) -> 87735.586
B20: US | D20: Statista - Parents in the U.S. | F20: k ppl | H20: 69590 | I20: 70240 | J20: 70880 | K20: 71540 | L20: 72030 | M20: 73770 | N20: 74330 | O20: 75600 | P20: 76220 | Q20: 76860 | R20: 77400 | S20: 78430 | T20: 77870 | U20: 78850 | V20: 78830 | W20: 78610 | X20: 80510 | Y20: 80900 | Z20: 81350 | AA20: 81720 | AB20: 82180 | AC20: 82830 | AD20: 83090 | AE20: 83480 | AF20: 83680 | AG20: 83710 | AH20: 84230 | AI20: =AI$5*SLOPE($H20:$AH20,$H$5:$AH$5)+INTERCEPT($H20:$AH20,$H$5:$AH$5) -> 86035.385 | AJ20: =AJ$5*SLOPE($H20:$AH20,$H$5:$AH$5)+INTERCEPT($H20:$AH20,$H$5:$AH$5) -> 86602.118 | AK20: =AK$5*SLOPE($H20:$AH20,$H$5:$AH$5)+INTERCEPT($H20:$AH20,$H$5:$AH$5) -> 87168.852 | AL20: =AL$5*SLOPE($H20:$AH20,$H$5:$AH$5)+INTERCEPT($H20:$AH20,$H$5:$AH$5) -> 87735.586
B21: UK | D21: Statista - Households and Families in the U.K. | F21: k ppl | H21: - | I21: - | J21: - | K21: - | L21: - | M21: - | N21: - | O21: - | P21: - | Q21: - | R21: - | S21: - | T21: - | U21: - | V21: - | W21: - | X21: - | Y21: - | Z21: - | AA21: - | AB21: - | AC21: - | AD21: - | AE21: - | AF21: - | AG21: - | AH21: - | AI21: - | AJ21: - | AK21: - | AL21: -
B22: Number of families with children | F22: k ppl | H22: =SUM(H23:H24) -> 35230 | I22: =SUM(I23:I24) -> 35428 | J22: =SUM(J23:J24) -> 35723 | K22: =SUM(K23:K24) -> 36013 | L22: =SUM(L23:L24) -> 36168 | M22: =SUM(M23:M24) -> 36893 | N22: =SUM(N23:N24) -> 37128 | O22: =SUM(O23:O24) -> 37610 | ... AL22: =SUM(AL23:AL24) -> 43413.497
B23: US | D23: Statista - Parents in the U.S. | F23: k ppl | G23: 0.4 | H23: =H20*$G$23 -> 27836 | I23: =I20*$G$23 -> 28096 | J23: =J20*$G$23 -> 28352 | K23: =K20*$G$23 -> 28616 | L23: =L20*$G$23 -> 28812 | M23: =M20*$G$23 -> 29508 | N23: =N20*$G$23 -> 29732 | O23: =O20*$G$23 -> 30240 | ... AL23: =AL20*$G$23 -> 35094.234
B24: UK | D24: Statista - Households and Families in the U.K. | F24: k ppl | H24: 7394 | I24: 7332 | J24: 7371 | K24: 7397 | L24: 7356 | M24: 7385 | N24: 7396 | O24: 7370 | P24: 7444 | Q24: 7517 | R24: 7509 | S24: 7550 | T24: 7592 | U24: 7730 | V24: 7784 | W24: 7747 | X24: 7896 | Y24: 7915 | Z24: 7936 | AA24: 7961 | AB24: 7984 | AC24: 8006 | AD24: 8014 | AE24: 8043 | AF24: 8082 | AG24: 8165 | AH24: 8196 | AI24: =AI$5*SLOPE($H24:$AH24,$H$5:$AH$5)+INTERCEPT($H24:$AH24,$H$5:$AH$5) -> 8211.1054 | AJ24: =AJ$5*SLOPE($H24:$AH24,$H$5:$AH$5)+INTERCEPT($H24:$AH24,$H$5:$AH$5) -> 8247.1579 | AK24: =AK$5*SLOPE($H24:$AH24,$H$5:$AH$5)+INTERCEPT($H24:$AH24,$H$5:$AH$5) -> 8283.2104 | AL24: =AL$5*SLOPE($H24:$AH24,$H$5:$AH$5)+INTERCEPT($H24:$AH24,$H$5:$AH$5) -> 8319.2629
B25: Number of families with single parent | F25: k ppl | H25: =SUM(H26:H27) -> 19082 | I25: =SUM(I26:I27) -> 18935 | J25: =SUM(J26:J27) -> 19247 | K25: =SUM(K26:K27) -> 19407 | L25: =SUM(L26:L27) -> 19608 | M25: =SUM(M26:M27) -> 20098 | N25: =SUM(N26:N27) -> 20838 | O25: =SUM(O26:O27) -> 21105 | ... AL25: =SUM(AL26:AL27) -> 27331.911
B26: US | D26: Statista - Parents in the U.S. | F26: k ppl | H26: 16637 | I26: 16563 | J26: 16773 | K26: 16917 | L26: 17180 | M26: 17586 | N26: 18289 | O26: 18508 | P26: 18882 | Q26: 19229 | R26: 19491 | S26: 19514 | T26: 19737 | U26: 20439 | V26: 20892 | W26: 21566 | X26: 21720 | Y26: 21525 | Z26: 21715 | AA26: 21941 | AB26: 22033 | AC26: 21656 | AD26: 21537 | AE26: 21344 | AF26: 22426 | AG26: 22835 | AH26: 22170 | AI26: =AI$5*SLOPE($H26:$AH26,$H$5:$AH$5)+INTERCEPT($H26:$AH26,$H$5:$AH$5) -> 23449.929 | AJ26: =AJ$5*SLOPE($H26:$AH26,$H$5:$AH$5)+INTERCEPT($H26:$AH26,$H$5:$AH$5) -> 23698.72 | AK26: =AK$5*SLOPE($H26:$AH26,$H$5:$AH$5)+INTERCEPT($H26:$AH26,$H$5:$AH$5) -> 23947.511 | AL26: =AL$5*SLOPE($H26:$AH26,$H$5:$AH$5)+INTERCEPT($H26:$AH26,$H$5:$AH$5) -> 24196.302
B27: UK | D27: Statista - Households and Families in the U.K. | F27: k ppl | H27: 2445 | I27: 2372 | J27: 2474 | K27: 2490 | L27: 2428 | M27: 2512 | N27: 2549 | O27: 2597 | P27: 2686 | Q27: 2697 | R27: 2694 | S27: 2692 | T27: 2759 | U27: 2889 | V27: 2943 | W27: 2909 | X27: 3039 | Y27: 3000 | Z27: 3007 | AA27: 3031 | AB27: 2900 | AC27: 2815 | AD27: 2862 | AE27: 2852 | AF27: 2811 | AG27: 2968 | AH27: 2939 | AI27: =AI$5*SLOPE($H27:$AH27,$H$5:$AH$5)+INTERCEPT($H27:$AH27,$H$5:$AH$5) -> 3068.2792 | AJ27: =AJ$5*SLOPE($H27:$AH27,$H$5:$AH$5)+INTERCEPT($H27:$AH27,$H$5:$AH$5) -> 3090.7224 | AK27: =AK$5*SLOPE($H27:$AH27,$H$5:$AH$5)+INTERCEPT($H27:$AH27,$H$5:$AH$5) -> 3113.1656 | AL27: =AL$5*SLOPE($H27:$AH27,$H$5:$AH$5)+INTERCEPT($H27:$AH27,$H$5:$AH$5) -> 3135.6089
B28: Number of parents | F28: k ppl | H28: =SUM(H29:H30) -> 51378 | I28: =SUM(I29:I30) -> 51921 | J28: =SUM(J29:J30) -> 52199 | K28: =SUM(K29:K30) -> 52619 | L28: =SUM(L29:L30) -> 52728 | M28: =SUM(M29:M30) -> 53688 | N28: =SUM(N29:N30) -> 53418 | O28: =SUM(O29:O30) -> 54115 | ... AL28: =SUM(AL29:AL30) -> 59495.083
B29: US | F29: k ppl | H29: =(H23-H26)*2+H26 -> 39035 | I29: =(I23-I26)*2+I26 -> 39629 | J29: =(J23-J26)*2+J26 -> 39931 | K29: =(K23-K26)*2+K26 -> 40315 | L29: =(L23-L26)*2+L26 -> 40444 | M29: =(M23-M26)*2+M26 -> 41430 | N29: =(N23-N26)*2+N26 -> 41175 | O29: =(O23-O26)*2+O26 -> 41972 | ... AL29: =(AL23-AL26)*2+AL26 -> 45992.166
B30: UK | F30: k ppl | H30: =(H24-H27)*2+H27 -> 12343 | I30: =(I24-I27)*2+I27 -> 12292 | J30: =(J24-J27)*2+J27 -> 12268 | K30: =(K24-K27)*2+K27 -> 12304 | L30: =(L24-L27)*2+L27 -> 12284 | M30: =(M24-M27)*2+M27 -> 12258 | N30: =(N24-N27)*2+N27 -> 12243 | O30: =(O24-O27)*2+O27 -> 12143 | ... AL30: =(AL24-AL27)*2+AL27 -> 13502.917
B31: Number of parents of age 30-50 (Millenials) | F31: k ppl | H31: =SUM(H32:H33) -> 30559.88 | I31: =SUM(I32:I33) -> 30879.23 | J31: =SUM(J32:J33) -> 31042.77 | K31: =SUM(K32:K33) -> 31291.29 | L31: =SUM(L32:L33) -> 31355.2 | M31: =SUM(M32:M33) -> 31921.08 | N31: =SUM(N32:N33) -> 31761.48 | O31: =SUM(O32:O33) -> 32170.71 | ... AL31: =SUM(AL32:AL33) -> 35372.158
B32: US | D32: Statista - Target Audience: Parents in the U.S. | F32: k ppl | G32: 0.59 | H32: =H29*$G$32 -> 23030.65 | I32: =I29*$G$32 -> 23381.11 | J32: =J29*$G$32 -> 23559.29 | K32: =K29*$G$32 -> 23785.85 | L32: =L29*$G$32 -> 23861.96 | M32: =M29*$G$32 -> 24443.7 | N32: =N29*$G$32 -> 24293.25 | O32: =O29*$G$32 -> 24763.48 | ... AL32: =AL29*$G$32 -> 27135.378
B33: UK | D33: Statista - Target Audience: Parents in the U.K. | F33: k ppl | G33: 0.61 | H33: =H30*$G$33 -> 7529.23 | I33: =I30*$G$33 -> 7498.12 | J33: =J30*$G$33 -> 7483.48 | K33: =K30*$G$33 -> 7505.44 | L33: =L30*$G$33 -> 7493.24 | M33: =M30*$G$33 -> 7477.38 | N33: =N30*$G$33 -> 7468.23 | O33: =O30*$G$33 -> 7407.23 | ... AL33: =AL30*$G$33 -> 8236.7794
B34: Among them - with higher education (Bachelor+) | F34: k ppl | H34: =SUM(H35:H36) -> 15957.571 | I34: =SUM(I35:I36) -> 16114.446 | J34: =SUM(J35:J36) -> 16194.898 | K34: =SUM(K35:K36) -> 16321.135 | L34: =SUM(L35:L36) -> 16351.992 | M34: =SUM(M35:M36) -> 16633.504 | N34: =SUM(N35:N36) -> 16552.881 | O34: =SUM(O35:O36) -> 16752.006 | ... AL34: =SUM(AL35:AL36) -> 18427.389
B35: US | D35: Statista - Target Audience: Parents in the U.S. | F35: k ppl | G35: 0.5 | H35: =H32*$G$35 -> 11515.325 | I35: =I32*$G$35 -> 11690.555 | J35: =J32*$G$35 -> 11779.645 | K35: =K32*$G$35 -> 11892.925 | L35: =L32*$G$35 -> 11930.98 | M35: =M32*$G$35 -> 12221.85 | N35: =N32*$G$35 -> 12146.625 | O35: =O32*$G$35 -> 12381.74 | ... AL35: =AL32*$G$35 -> 13567.689
B36: UK | D36: Statista - Target Audience: Parents in the U.K. | F36: k ppl | G36: 0.59 | H36: =H33*$G$36 -> 4442.2457 | I36: =I33*$G$36 -> 4423.8908 | J36: =J33*$G$36 -> 4415.2532 | K36: =K33*$G$36 -> 4428.2096 | L36: =L33*$G$36 -> 4421.0116 | M36: =M33*$G$36 -> 4411.6542 | N36: =N33*$G$36 -> 4406.2557 | O36: =O33*$G$36 -> 4370.2657 | ... AL36: =AL33*$G$36 -> 4859.6998
B37: Would use social media for support and answers | D37: Pew Research - Parents and Social Media | F37: k ppl | G37: =AVERAGE(88,71,83,74,80,65,77,64,61,53)/100 -> 0.716 | H37: =H34*$G$37 -> 11425.621 | I37: =I34*$G$37 -> 11537.943 | J37: =J34*$G$37 -> 11595.547 | K37: =K34*$G$37 -> 11685.932 | L37: =L34*$G$37 -> 11708.026 | M37: =M34*$G$37 -> 11909.589 | N37: =N34*$G$37 -> 11851.863 | O37: =O34*$G$37 -> 11994.436 | ... AL37: =AL34*$G$37 -> 13194.01
AI40: Phase 1 | AJ40: Phase 1 | AK40: Phase 2 | AL40: Phase 2 | AM40: Phase 2 | AN40: Phase 2 | AO40: Phase 2 | AP40: Phase 2 | AQ40: Phase 2 | AR40: Phase 2 | AS40: Phase 2 | AT40: Phase 2 | AU40: Phase 3 | AV40: Phase 3 | AW40: Phase 3 | AX40: Phase 3 | AY40: Phase 3 | AZ40: Phase 3 | BA40: Phase 3 | BB40: Phase 3 | BC40: Phase 3 | BD40: Phase 3 | BE40: Phase 3 | BF40: Phase 3 | BG40: Phase 3 | BH40: Phase 3 | BI40: Phase 3 | BJ40: Phase 3 | BK40: Phase 3 | BL40: Phase 3 | BM40: Phase 3 | BN40: Phase 3 | BO40: Phase 3 | BP40: Phase 3 | BQ40: Phase 3 | BR40: Phase 3
B41: Market Share and Revenue | F41: Units | G41: Initial / Base | AI41: 45292 | AJ41: 45323 | AK41: 45352 | AL41: 45383 | AM41: 45413 | AN41: 45444 | AO41: 45474 | AP41: 45505 | AQ41: 45536 | AR41: 45566 | AS41: 45597 | AT41: 45627 | AU41: 45658 | AV41: 45689 | AW41: 45717 | AX41: 45748 | AY41: 45778 | AZ41: 45809 | BA41: 45839 | BB41: 45870 | BC41: 45901 | BD41: 45931 | BE41: 45962 | BF41: 45992 | BG41: 46023 | BH41: 46054 | BI41: 46082 | BJ41: 46113 | BK41: 46143 | BL41: 46174 | BM41: 46204 | BN41: 46235 | BO41: 46266 | BP41: 46296 | BQ41: 46327 | BR41: 46357
B42: Month | G42: 0 | AI42: 1 | AJ42: 2 | AK42: 3 | AL42: 4 | AM42: 5 | AN42: 6 | AO42: 7 | AP42: 8 | AQ42: 9 | AR42: 10 | AS42: 11 | AT42: 12 | AU42: 13 | AV42: 14 | AW42: 15 | AX42: 16 | AY42: 17 | AZ42: 18 | BA42: 19 | BB42: 20 | BC42: 21 | BD42: 22 | BE42: 23 | BF42: 24 | BG42: 25 | BH42: 26 | BI42: 27 | BJ42: 28 | BK42: 29 | BL42: 30 | BM42: 31 | BN42: 32 | BO42: 33 | BP42: 34 | BQ42: 35 | BR42: 36
B43: Year (for Inflation) | G43: 0 | AI43: 0 | AJ43: 0 | AK43: 0 | AL43: 0 | AM43: 0 | AN43: 0 | AO43: 0 | AP43: 0 | AQ43: 0 | AR43: 0 | AS43: 0 | AT43: 0 | AU43: 1 | AV43: 1 | AW43: 1 | AX43: 1 | AY43: 1 | AZ43: 1 | BA43: 1 | BB43: 1 | BC43: 1 | BD43: 1 | BE43: 1 | BF43: 1 | BG43: 2 | BH43: 2 | BI43: 2 | BJ43: 2 | BK43: 2 | BL43: 2 | BM43: 2 | BN43: 2 | BO43: 2 | BP43: 2 | BQ43: 2 | BR43: 2
B45: Model 1. Bottom Up: based on ppl and subscription price
B46: Our Share | D46: Expert - Scenario analysis | F46: % | AI46: ='4. Summary'!F9 -> 0 | AJ46: ='4. Summary'!G9 -> 0 | AK46: ='4. Summary'!H9 -> 0 | AL46: ='4. Summary'!I9 -> 0 | AM46: ='4. Summary'!J9 -> 0 | AN46: ='4. Summary'!K9 -> 0 | AO46: ='4. Summary'!L9 -> 0.0011 | AP46: ='4. Summary'!M9 -> 0.0022 | ... BR46: ='4. Summary'!AO9 -> 0.066
B47: Our Share | F47: ppl | AI47: =AI46*$AJ$37*1000 -> 0 | AJ47: =AJ46*$AJ$37*1000 -> 0 | AK47: =AK46*$AJ$37*1000 -> 0 | AL47: =AL46*$AJ$37*1000 -> 0 | AM47: =AM46*$AJ$37*1000 -> 0 | AN47: =AN46*$AJ$37*1000 -> 0 | AO47: =AO46*$AJ$37*1000 -> 14390.185 | AP47: =AP46*$AJ$37*1000 -> 28780.37 | ... AT47: =AT46*$AJ$37*1000 -> 143901.85 | AU47: =AU46*$AK$37*1000 -> 144517.98 | AV47: =AV46*$AK$37*1000 -> 187873.38 | AW47: =AW46*$AK$37*1000 -> 173421.58 | AX47: =AX46*$AK$37*1000 -> 187873.38 | AY47: =AY46*$AK$37*1000 -> 231228.77 | AZ47: =AZ46*$AK$37*1000 -> 274584.17 | BA47: =BA46*$AK$37*1000 -> 317939.56 | BB47: =BB46*$AK$37*1000 -> 361294.96 | ... BF47: =BF46*$AK$37*1000 -> 534716.54 | BG47: =BG46*$AL$37*1000 -> 580536.46 | BH47: =BH46*$AL$37*1000 -> 624076.7 | BI47: =BI46*$AL$37*1000 -> 667616.93 | BJ47: =BJ46*$AL$37*1000 -> 711157.16 | BK47: =BK46*$AL$37*1000 -> 754697.4 | BL47: =BL46*$AL$37*1000 -> 798237.63 | BM47: =BM46*$AL$37*1000 -> 841777.87 | BN47: =BN46*$AL$37*1000 -> 870804.69 | ... BR47: =BR46*$AL$37*1000 -> 870804.69
B48: User Retention | C48: "Lifestyle" app category | D48: Statista - Retention Rate by Category | F48: ppl | G48: 0.036 | AI48: =AI47*$G$48 -> 0 | AJ48: =AJ47*$G$48 -> 0 | AK48: =AK47*$G$48 -> 0 | AL48: =AL47*$G$48 -> 0 | AM48: =AM47*$G$48 -> 0 | AN48: =AN47*$G$48 -> 0 | AO48: =AO47*$G$48 -> 518.04666 | AP48: =AP47*$G$48 -> 1036.0933 | ... BR48: =BR47*$G$48 -> 31348.969
B49: Our Revenue | C49: Based on the subscription price | F49: USD | G49: 19.99 | AI49: =AI48*$G$49*(1+$G$8)^AI43 -> 0 | AJ49: =AJ48*$G$49*(1+$G$8)^AJ43 -> 0 | AK49: =AK48*$G$49*(1+$G$8)^AK43 -> 0 | AL49: =AL48*$G$49*(1+$G$8)^AL43 -> 0 | AM49: =AM48*$G$49*(1+$G$8)^AM43 -> 0 | AN49: =AN48*$G$49*(1+$G$8)^AN43 -> 0 | AO49: =AO48*$G$49*(1+$G$8)^AO43 -> 10355.753 | AP49: =AP48*$G$49*(1+$G$8)^AP43 -> 20711.506 | ... BR49: =BR48*$G$49*(1+$G$8)^BR43 -> 686029.93
B51: Model 2. Top Down: based on segment revenue
...

Sheet 2. Expenses
H2: Phase 1 | I2: Phase 1 | J2: Phase 2 | K2: Phase 2 | L2: Phase 2 | M2: Phase 2 | N2: Phase 2 | O2: Phase 2 | P2: Phase 2 | Q2: Phase 2 | R2: Phase 2 | S2: Phase 2 | T2: Phase 3 | U2: Phase 3 | V2: Phase 3 | W2: Phase 3 | X2: Phase 3 | Y2: Phase 3 | Z2: Phase 3 | AA2: Phase 3 | AB2: Phase 3 | AC2: Phase 3 | AD2: Phase 3 | AE2: Phase 3 | AF2: Phase 3 | AG2: Phase 3 | AH2: Phase 3 | AI2: Phase 3 | AJ2: Phase 3 | AK2: Phase 3 | AL2: Phase 3 | AM2: Phase 3 | AN2: Phase 3 | AO2: Phase 3 | AP2: Phase 3 | AQ2: Phase 3
B4: Groups / Metrics | C4: Comments | D4: Source | E4: Sparklines | F4: Units | G4: Initial / Base | H4: 45292 | I4: 45323 | J4: 45352 | K4: 45383 | L4: 45413 | M4: 45444 | N4: 45474 | O4: 45505 | P4: 45536 | Q4: 45566 | R4: 45597 | S4: 45627 | T4: 45658 | U4: 45689 | V4: 45717 | W4: 45748 | X4: 45778 | Y4: 45809 | Z4: 45839 | AA4: 45870 | AB4: 45901 | AC4: 45931 | AD4: 45962 | AE4: 45992 | AF4: 46023 | AG4: 46054 | AH4: 46082 | AI4: 46113 | AJ4: 46143 | AK4: 46174 | AL4: 46204 | AM4: 46235 | AN4: 46266 | AO4: 46296 | AP4: 46327 | AQ4: 46357
B5: Month | G5: 0 | H5: 1 | I5: 2 | J5: 3 | K5: 4 | L5: 5 | M5: 6 | N5: 7 | O5: 8 | P5: 9 | Q5: 10 | R5: 11 | S5: 12 | T5: 13 | U5: 14 | V5: 15 | W5: 16 | X5: 17 | Y5: 18 | Z5: 19 | AA5: 20 | AB5: 21 | AC5: 22 | AD5: 23 | AE5: 24 | AF5: 25 | AG5: 26 | AH5: 27 | AI5: 28 | AJ5: 29 | AK5: 30 | AL5: 31 | AM5: 32 | AN5: 33 | AO5: 34 | AP5: 35 | AQ5: 36
B6: Year (for Inflation) | G6: - | H6: 0 | I6: 0 | J6: 0 | K6: 0 | L6: 0 | M6: 0 | N6: 0 | O6: 0 | P6: 0 | Q6: 0 | R6: 0 | S6: 0 | T6: 1 | U6: 1 | V6: 1 | W6: 1 | X6: 1 | Y6: 1 | Z6: 1 | AA6: 1 | AB6: 1 | AC6: 1 | AD6: 1 | AE6: 1 | AF6: 2 | AG6: 2 | AH6: 2 | AI6: 2 | AJ6: 2 | AK6: 2 | AL6: 2 | AM6: 2 | AN6: 2 | AO6: 2 | AP6: 2 | AQ6: 2
B8: General Inputs
B9: Inflation (CPI Percentage Change) | D9: Calculations | F9: % | G9: ='Calc. Inflation (CPI)'!$C$21 -> 0.046293447
B11: General Outputs
B12: Headcount (Inhouse) | F12: ppl | H12: =SUM(H30,H56,H74) -> 2.9 | I12: =SUM(I30,I56,I74) -> 4.9 | J12: =SUM(J30,J56,J74) -> 8.9 | K12: =SUM(K30,K56,K74) -> 7.9 | L12: =SUM(L30,L56,L74) -> 7.9 | M12: =SUM(M30,M56,M74) -> 8.9 | N12: =SUM(N30,N56,N74) -> 8.9 | O12: =SUM(O30,O56,O74) -> 8.9 | ... AQ12: =SUM(AQ30,AQ56,AQ74) -> 13
B13: Gross Wage (Inhouse) | C13: Less managerial bonuses | F13: USD | H13: =SUM(H26,H49,H61) -> 14500 | I13: =SUM(I26,I49,I61) -> 22300 | J13: =SUM(J26,J49,J61) -> 26500 | K13: =SUM(K26,K49,K61) -> 22300 | L13: =SUM(L26,L49,L61) -> 22300 | M13: =SUM(M26,M49,M61) -> 26500 | N13: =SUM(N26,N49,N61) -> 26500 | O13: =SUM(O26,O49,O61) -> 26500 | ... AQ13: =SUM(AQ26,AQ49,AQ61) -> 45759.713
B14: Gross Wage (Outsource) | F14: USD | H14: =SUM(H18,H25,H35,H36,H37) -> 39035 | I14: =SUM(I18,I25,I35,I36,I37) -> 39035 | J14: =SUM(J18,J25,J35,J36,J37) -> 49535 | K14: =SUM(K18,K25,K35,K36,K37) -> 49535 | L14: =SUM(L18,L25,L35,L36,L37) -> 49535 | M14: =SUM(M18,M25,M35,M36,M37) -> 49535 | N14: =SUM(N18,N25,N35,N36,N37) -> 49535 | O14: =SUM(O18,O25,O35,O36,O37) -> 49535 | ... AQ14: =SUM(AQ18,AQ25,AQ35,AQ36,AQ37) -> 58059.004
B17: Operating Expenses | F17: USD | H17: =SUM(H18,H23,H34,H39) -> 43565 | I17: =SUM(I18,I23,I34,I39) -> 47165 | J17: =SUM(J18,J23,J34,J39) -> 78665 | K17: =SUM(K18,K23,K34,K39) -> 78665 | L17: =SUM(L18,L23,L34,L39) -> 78665 | M17: =SUM(M18,M23,M34,M39) -> 78665 | N17: =SUM(N18,N23,N34,N39) -> 78665 | O17: =SUM(O18,O23,O34,O39) -> 78665 | ... AQ17: =SUM(AQ18,AQ23,AQ34,AQ39) -> 112937.82
B18: IT and Product Development Expenses | F18: USD | H18: =SUM(H19:H21) -> 21035 | I18: =SUM(I19:I21) -> 21035 | J18: =SUM(J19:J21) -> 21035 | K18: =SUM(K19:K21) -> 21035 | L18: =SUM(L19:L21) -> 21035 | M18: =SUM(M19:M21) -> 21035 | N18: =SUM(N19:N21) -> 21035 | O18: =SUM(O19:O21) -> 21035 | ... AQ18: =SUM(AQ19:AQ21) -> 23027.645
B19: App Builder | F19: USD | G19: 20000 | H19: =$G19*(1+$G$9)^H$6 -> 20000 | I19: =$G19*(1+$G$9)^I$6 -> 20000 | J19: =$G19*(1+$G$9)^J$6 -> 20000 | K19: =$G19*(1+$G$9)^K$6 -> 20000 | L19: =$G19*(1+$G$9)^L$6 -> 20000 | M19: =$G19*(1+$G$9)^M$6 -> 20000 | N19: =$G19*(1+$G$9)^N$6 -> 20000 | O19: =$G19*(1+$G$9)^O$6 -> 20000 | ... AQ19: =$G19*(1+$G$9)^AQ$6 -> 21894.6
B20: Website Builder | C20: Squarespace | F20: USD | G20: 35 | H20: =$G20*(1+$G$9)^H$6 -> 35 | I20: =$G20*(1+$G$9)^I$6 -> 35 | J20: =$G20*(1+$G$9)^J$6 -> 35 | K20: =$G20*(1+$G$9)^K$6 -> 35 | L20: =$G20*(1+$G$9)^L$6 -> 35 | M20: =$G20*(1+$G$9)^M$6 -> 35 | N20: =$G20*(1+$G$9)^N$6 -> 35 | O20: =$G20*(1+$G$9)^O$6 -> 35 | ... AQ20: =$G20*(1+$G$9)^AQ$6 -> 38.315549
B21: Software Licenses and Subscriptions | C21: ChatGPT, Analytical services, BI, etc. | F21: USD | G21: 1000 | H21: =$G21*(1+$G$9)^H$6 -> 1000 | I21: =$G21*(1+$G$9)^I$6 -> 1000 | J21: =$G21*(1+$G$9)^J$6 -> 1000 | K21: =$G21*(1+$G$9)^K$6 -> 1000 | L21: =$G21*(1+$G$9)^L$6 -> 1000 | M21: =$G21*(1+$G$9)^M$6 -> 1000 | N21: =$G21*(1+$G$9)^N$6 -> 1000 | O21: =$G21*(1+$G$9)^O$6 -> 1000 | ... AQ21: =$G21*(1+$G$9)^AQ$6 -> 1094.73
B23: Product Support Expenses | F23: USD | H23: =SUM(H24,H27) -> 0 | I23: =SUM(I24,I27) -> 3600 | J23: =SUM(J24,J27) -> 35100 | K23: =SUM(K24,K27) -> 35100 | L23: =SUM(L24,L27) -> 35100 | M23: =SUM(M24,M27) -> 35100 | N23: =SUM(N24,N27) -> 35100 | O23: =SUM(O24,O27) -> 35100 | ... AQ23: =SUM(AQ24,AQ27) -> 65245.907
B24: Salary | F24: USD | H24: =SUM(H25:H26) -> 0 | I24: =SUMPRODUCT(I25:I26,I31:I32) -> 3000 | J24: =SUMPRODUCT(J25:J26,J31:J32) -> 34500 | K24: =SUMPRODUCT(K25:K26,K31:K32) -> 34500 | L24: =SUMPRODUCT(L25:L26,L31:L32) -> 34500 | M24: =SUMPRODUCT(M25:M26,M31:M32) -> 34500 | N24: =SUMPRODUCT(N25:N26,N31:N32) -> 34500 | O24: =SUMPRODUCT(O25:O26,O31:O32) -> 34500 | P24: =SUMPRODUCT(P25:P26,P31:P32) -> 34500 | ... AQ24: =SUMPRODUCT(AQ25:AQ26,AQ31:AQ32) -> 64589.069
B25: Therapist / Methodologist | C25: Outsource | F25: USD | G25: 3500 | H25: =H31*$G25*(1+$G$9)^H$6 -> 0 | I25: =I31*$G25*(1+$G$9)^I$6 -> 0 | J25: =J31*$G25*(1+$G$9)^J$6 -> 10500 | K25: =K31*$G25*(1+$G$9)^K$6 -> 10500 | L25: =L31*$G25*(1+$G$9)^L$6 -> 10500 | M25: =M31*$G25*(1+$G$9)^M$6 -> 10500 | N25: =N31*$G25*(1+$G$9)^N$6 -> 10500 | O25: =O31*$G25*(1+$G$9)^O$6 -> 10500 | ... AQ25: =AQ31*$G25*(1+$G$9)^AQ$6 -> 15326.22
B26: Copywriter | F26: USD | G26: 3000 | H26: =H32*$G26*(1+$G$9)^H$6 -> 0 | I26: =I32*$G26*(1+$G$9)^I$6 -> 3000 | J26: =J32*$G26*(1+$G$9)^J$6 -> 3000 | K26: =K32*$G26*(1+$G$9)^K$6 -> 3000 | L26: =L32*$G26*(1+$G$9)^L$6 -> 3000 | M26: =M32*$G26*(1+$G$9)^M$6 -> 3000 | N26: =N32*$G26*(1+$G$9)^N$6 -> 3000 | O26: =O32*$G26*(1+$G$9)^O$6 -> 3000 | ... AQ26: =AQ32*$G26*(1+$G$9)^AQ$6 -> 3284.1899
B27: Bonuses | F27: USD | H27: =SUM(H28:H29) -> 0 | I27: =SUM(I28:I29) -> 600 | J27: =SUM(J28:J29) -> 600 | K27: =SUM(K28:K29) -> 600 | L27: =SUM(L28:L29) -> 600 | M27: =SUM(M28:M29) -> 600 | N27: =SUM(N28:N29) -> 600 | O27: =SUM(O28:O29) -> 600 | ... AQ27: =SUM(AQ28:AQ29) -> 656.83799
B28: Therapist / Methodologist | F28: USD (%) | H28: =H25*$G28 -> 0 | I28: =I25*$G28 -> 0 | J28: =J25*$G28 -> 0 | K28: =K25*$G28 -> 0 | L28: =L25*$G28 -> 0 | M28: =M25*$G28 -> 0 | N28: =N25*$G28 -> 0 | O28: =O25*$G28 -> 0 | ... AQ28: =AQ25*$G28 -> 0
B29: Copywriter | C29: Percent of salary | F29: USD (%) | G29: 0.2 | H29: =H26*$G29 -> 0 | I29: =I26*$G29 -> 600 | J29: =J26*$G29 -> 600 | K29: =K26*$G29 -> 600 | L29: =L26*$G29 -> 600 | M29: =M26*$G29 -> 600 | N29: =N26*$G29 -> 600 | O29: =O26*$G29 -> 600 | ... AQ29: =AQ26*$G29 -> 656.83799
B30: Headcount | F30: ppl | H30: =SUM(H31:H32) -> 0 | I30: =SUM(I31:I32) -> 1 | J30: =SUM(J31:J32) -> 4 | K30: =SUM(K31:K32) -> 4 | L30: =SUM(L31:L32) -> 4 | M30: =SUM(M31:M32) -> 4 | N30: =SUM(N31:N32) -> 4 | O30: =SUM(O31:O32) -> 4 | ... AQ30: =SUM(AQ31:AQ32) -> 5
B31: Therapist / Methodologist | F31: ppl | H31: 0 | I31: 0 | J31: 3 | K31: 3 | L31: 3 | M31: 3 | N31: 3 | O31: 3 | P31: 3 | Q31: 3 | R31: 3 | S31: 3 | T31: 4 | U31: 4 | V31: 4 | W31: 4 | X31: 4 | Y31: 4 | Z31: 4 | AA31: 4 | AB31: 4 | AC31: 4 | AD31: 4 | AE31: 4 | AF31: 4 | AG31: 4 | AH31: 4 | AI31: 4 | AJ31: 4 | AK31: 4 | AL31: 4 | AM31: 4 | AN31: 4 | AO31: 4 | AP31: 4 | AQ31: 4
B32: Copywriter | F32: ppl | H32: 0 | I32: 1 | J32: 1 | K32: 1 | L32: 1 | M32: 1 | N32: 1 | O32: 1 | P32: 1 | Q32: 1 | R32: 1 | S32: 1 | T32: 1 | U32: 1 | V32: 1 | W32: 1 | X32: 1 | Y32: 1 | Z32: 1 | AA32: 1 | AB32: 1 | AC32: 1 | AD32: 1 | AE32: 1 | AF32: 1 | AG32: 1 | AH32: 1 | AI32: 1 | AJ32: 1 | AK32: 1 | AL32: 1 | AM32: 1 | AN32: 1 | AO32: 1 | AP32: 1 | AQ32: 1
B34: Supportive Processes | F34: USD | H34: =SUM(H35:H37) -> 18000 | I34: =SUM(I35:I37) -> 18000 | J34: =SUM(J35:J37) -> 18000 | K34: =SUM(K35:K37) -> 18000 | L34: =SUM(L35:L37) -> 18000 | M34: =SUM(M35:M37) -> 18000 | N34: =SUM(N35:N37) -> 18000 | O34: =SUM(O35:O37) -> 18000 | ... AQ34: =SUM(AQ35:AQ37) -> 19705.14
B35: Legal | C35: Outsource | F35: USD | G35: 6000 | H35: =$G35*(1+$G$9)^H$6 -> 6000 | I35: =$G35*(1+$G$9)^I$6 -> 6000 | J35: =$G35*(1+$G$9)^J$6 -> 6000 | K35: =$G35*(1+$G$9)^K$6 -> 6000 | L35: =$G35*(1+$G$9)^L$6 -> 6000 | M35: =$G35*(1+$G$9)^M$6 -> 6000 | N35: =$G35*(1+$G$9)^N$6 -> 6000 | O35: =$G35*(1+$G$9)^O$6 -> 6000 | ... AQ35: =$G35*(1+$G$9)^AQ$6 -> 6568.3799
B36: Finance and Accounting | C36: Outsource | F36: USD | G36: 6000 | H36: =$G36*(1+$G$9)^H$6 -> 6000 | I36: =$G36*(1+$G$9)^I$6 -> 6000 | J36: =$G36*(1+$G$9)^J$6 -> 6000 | K36: =$G36*(1+$G$9)^K$6 -> 6000 | L36: =$G36*(1+$G$9)^L$6 -> 6000 | M36: =$G36*(1+$G$9)^M$6 -> 6000 | N36: =$G36*(1+$G$9)^N$6 -> 6000 | O36: =$G36*(1+$G$9)^O$6 -> 6000 | ... AQ36: =$G36*(1+$G$9)^AQ$6 -> 6568.3799
B37: Human Resources Management | C37: Outsource | F37: USD | G37: 6000 | H37: =$G37*(1+$G$9)^H$6 -> 6000 | I37: =$G37*(1+$G$9)^I$6 -> 6000 | J37: =$G37*(1+$G$9)^J$6 -> 6000 | K37: =$G37*(1+$G$9)^K$6 -> 6000 | L37: =$G37*(1+$G$9)^L$6 -> 6000 | M37: =$G37*(1+$G$9)^M$6 -> 6000 | N37: =$G37*(1+$G$9)^N$6 -> 6000 | O37: =$G37*(1+$G$9)^O$6 -> 6000 | ... AQ37: =$G37*(1+$G$9)^AQ$6 -> 6568.3799
B39: Office, Travel and Postage Expenses | F39: USD | H39: =SUM(H40:H44) -> 4530 | I39: =SUM(I40:I44) -> 4530 | J39: =SUM(J40:J44) -> 4530 | K39: =SUM(K40:K44) -> 4530 | L39: =SUM(L40:L44) -> 4530 | M39: =SUM(M40:M44) -> 4530 | N39: =SUM(N40:N44) -> 4530 | O39: =SUM(O40:O44) -> 4530 | ... AQ39: =SUM(AQ40:AQ44) -> 4959.1268
B40: Rent | C40: Coworking Space, Dedicated Desk, 3 ppl | D40: https://www.wework.com/ | F40: USD | G40: =510*3 -> 1530 | H40: =$G40*(1+$G$9)^H$6 -> 1530 | I40: =$G40*(1+$G$9)^I$6 -> 1530 | J40: =$G40*(1+$G$9)^J$6 -> 1530 | K40: =$G40*(1+$G$9)^K$6 -> 1530 | L40: =$G40*(1+$G$9)^L$6 -> 1530 | M40: =$G40*(1+$G$9)^M$6 -> 1530 | N40: =$G40*(1+$G$9)^N$6 -> 1530 | O40: =$G40*(1+$G$9)^O$6 -> 1530 | ... AQ40: =$G40*(1+$G$9)^AQ$6 -> 1674.9369
B41: Travel and Postage Costs | C41: Regular business travels, 3 ppl | F41: USD | G41: 3000 | H41: =$G41*(1+$G$9)^H$6 -> 3000 | I41: =$G41*(1+$G$9)^I$6 -> 3000 | J41: =$G41*(1+$G$9)^J$6 -> 3000 | K41: =$G41*(1+$G$9)^K$6 -> 3000 | L41: =$G41*(1+$G$9)^L$6 -> 3000 | M41: =$G41*(1+$G$9)^M$6 -> 3000 | N41: =$G41*(1+$G$9)^N$6 -> 3000 | O41: =$G41*(1+$G$9)^O$6 -> 3000 | ... AQ41: =$G41*(1+$G$9)^AQ$6 -> 3284.1899
B42: Utilities | C42: Online distributed team, no utilities budget | F42: USD | H42: =$G42*(1+$G$9)^H$6 -> 0 | I42: =$G42*(1+$G$9)^I$6 -> 0 | J42: =$G42*(1+$G$9)^J$6 -> 0 | K42: =$G42*(1+$G$9)^K$6 -> 0 | L42: =$G42*(1+$G$9)^L$6 -> 0 | M42: =$G42*(1+$G$9)^M$6 -> 0 | N42: =$G42*(1+$G$9)^N$6 -> 0 | O42: =$G42*(1+$G$9)^O$6 -> 0 | ... AQ42: =$G42*(1+$G$9)^AQ$6 -> 0
B43: Supplies | C43: Online distributed team, no supplies budget | F43: USD | H43: =$G43*(1+$G$9)^H$6 -> 0 | I43: =$G43*(1+$G$9)^I$6 -> 0 | J43: =$G43*(1+$G$9)^J$6 -> 0 | K43: =$G43*(1+$G$9)^K$6 -> 0 | L43: =$G43*(1+$G$9)^L$6 -> 0 | M43: =$G43*(1+$G$9)^M$6 -> 0 | N43: =$G43*(1+$G$9)^N$6 -> 0 | O43: =$G43*(1+$G$9)^O$6 -> 0 | ... AQ43: =$G43*(1+$G$9)^AQ$6 -> 0
B44: Telephone | C44: Free online services, no telephone budget | F44: USD | H44: =$G44*(1+$G$9)^H$6 -> 0 | I44: =$G44*(1+$G$9)^I$6 -> 0 | J44: =$G44*(1+$G$9)^J$6 -> 0 | K44: =$G44*(1+$G$9)^K$6 -> 0 | L44: =$G44*(1+$G$9)^L$6 -> 0 | M44: =$G44*(1+$G$9)^M$6 -> 0 | N44: =$G44*(1+$G$9)^N$6 -> 0 | O44: =$G44*(1+$G$9)^O$6 -> 0 | ... AQ44: =$G44*(1+$G$9)^AQ$6 -> 0
B46: Marketing and Selling Expenses | F46: USD | H46: =SUM(H47,H49) -> 7438.9882 | I46: =SUM(I47,I49) -> 12238.988 | J46: =SUM(J47,J49) -> 16438.988 | K46: =SUM(K47,K49) -> 12238.988 | L46: =SUM(L47,L49) -> 12238.988 | M46: =SUM(M47,M49) -> 16438.988 | N46: =SUM(N47,N49) -> 16438.988 | O46: =SUM(O47,O49) -> 16438.988 | ... AQ46: =SUM(AQ47,AQ49) -> 23250.957
B47: General Marketing Costs | C47: 30% of the first year revenue | F47: USD | H47: ='1. Revenue'!$AJ$14/12*30%*(1+$G$9)^H$6 -> 7438.9882 | I47: ='1. Revenue'!$AJ$14/12*30%*(1+$G$9)^I$6 -> 7438.9882 | J47: ='1. Revenue'!$AJ$14/12*30%*(1+$G$9)^J$6 -> 7438.9882 | K47: ='1. Revenue'!$AJ$14/12*30%*(1+$G$9)^K$6 -> 7438.9882 | L47: ='1. Revenue'!$AJ$14/12*30%*(1+$G$9)^L$6 -> 7438.9882 | M47: ='1. Revenue'!$AJ$14/12*30%*(1+$G$9)^M$6 -> 7438.9882 | N47: ='1. Revenue'!$AJ$14/12*30%*(1+$G$9)^N$6 -> 7438.9882 | O47: ='1. Revenue'!$AJ$14/12*30%*(1+$G$9)^O$6 -> 7438.9882 | ... AQ47: ='1. Revenue'!$AJ$14/12*30%*(1+$G$9)^AQ$6 -> 8143.6834
B49: Sales and Marketing Department | F49: USD | H49: =SUM(H50,H53) -> 0 | I49: =SUM(I50,I53) -> 4800 | J49: =SUM(J50,J53) -> 9000 | K49: =SUM(K50,K53) -> 4800 | L49: =SUM(L50,L53) -> 4800 | M49: =SUM(M50,M53) -> 9000 | N49: =SUM(N50,N53) -> 9000 | O49: =SUM(O50,O53) -> 9000 | ... AQ49: =SUM(AQ50,AQ53) -> 15107.274
B50: Salary | F50: USD | H50: =SUM(H51:H52) -> 0 | I50: =SUM(I51:I52) -> 4000 | J50: =SUM(J51:J52) -> 7500 | K50: =SUM(K51:K52) -> 4000 | L50: =SUM(L51:L52) -> 4000 | M50: =SUM(M51:M52) -> 7500 | N50: =SUM(N51:N52) -> 7500 | O50: =SUM(O51:O52) -> 7500 | ... AQ50: =SUM(AQ51:AQ52) -> 12589.395
B51: Content Creator / Illustrator | F51: USD | G51: 3500 | H51: =H57*$G51*(1+$G$9)^H$6 -> 0 | I51: =I57*$G51*(1+$G$9)^I$6 -> 0 | J51: =J57*$G51*(1+$G$9)^J$6 -> 3500 | K51: =K57*$G51*(1+$G$9)^K$6 -> 0 | L51: =L57*$G51*(1+$G$9)^L$6 -> 0 | M51: =M57*$G51*(1+$G$9)^M$6 -> 3500 | N51: =N57*$G51*(1+$G$9)^N$6 -> 3500 | O51: =O57*$G51*(1+$G$9)^O$6 -> 3500 | ... AQ51: =AQ57*$G51*(1+$G$9)^AQ$6 -> 3831.5549
...

Sheet 3. Statements
H2: Phase 1 | I2: Phase 1 | J2: Phase 2 | K2: Phase 2 | L2: Phase 2 | M2: Phase 2 | N2: Phase 2 | O2: Phase 2 | P2: Phase 2 | Q2: Phase 2 | R2: Phase 2 | S2: Phase 2 | T2: Phase 3 | U2: Phase 3 | V2: Phase 3 | W2: Phase 3 | X2: Phase 3 | Y2: Phase 3 | Z2: Phase 3 | AA2: Phase 3 | AB2: Phase 3 | AC2: Phase 3 | AD2: Phase 3 | AE2: Phase 3 | AF2: Phase 3 | AG2: Phase 3 | AH2: Phase 3 | AI2: Phase 3 | AJ2: Phase 3 | AK2: Phase 3 | AL2: Phase 3 | AM2: Phase 3 | AN2: Phase 3 | AO2: Phase 3 | AP2: Phase 3 | AQ2: Phase 3
B4: Groups / Metrics | C4: Comments | D4: Source | E4: Sparklines | F4: Units | G4: Initial / Base | H4: 45292 | I4: 45323 | J4: 45352 | K4: 45383 | L4: 45413 | M4: 45444 | N4: 45474 | O4: 45505 | P4: 45536 | Q4: 45566 | R4: 45597 | S4: 45627 | T4: 45658 | U4: 45689 | V4: 45717 | W4: 45748 | X4: 45778 | Y4: 45809 | Z4: 45839 | AA4: 45870 | AB4: 45901 | AC4: 45931 | AD4: 45962 | AE4: 45992 | AF4: 46023 | AG4: 46054 | AH4: 46082 | AI4: 46113 | AJ4: 46143 | AK4: 46174 | AL4: 46204 | AM4: 46235 | AN4: 46266 | AO4: 46296 | AP4: 46327 | AQ4: 46357
B5: Month | G5: 0 | H5: 1 | I5: 2 | J5: 3 | K5: 4 | L5: 5 | M5: 6 | N5: 7 | O5: 8 | P5: 9 | Q5: 10 | R5: 11 | S5: 12 | T5: 13 | U5: 14 | V5: 15 | W5: 16 | X5: 17 | Y5: 18 | Z5: 19 | AA5: 20 | AB5: 21 | AC5: 22 | AD5: 23 | AE5: 24 | AF5: 25 | AG5: 26 | AH5: 27 | AI5: 28 | AJ5: 29 | AK5: 30 | AL5: 31 | AM5: 32 | AN5: 33 | AO5: 34 | AP5: 35 | AQ5: 36
B6: Year | G6: 0 | H6: 1 | I6: 1 | J6: 1 | K6: 1 | L6: 1 | M6: 1 | N6: 1 | O6: 1 | P6: 1 | Q6: 1 | R6: 1 | S6: 1 | T6: 2 | U6: 2 | V6: 2 | W6: 2 | X6: 2 | Y6: 2 | Z6: 2 | AA6: 2 | AB6: 2 | AC6: 2 | AD6: 2 | AE6: 2 | AF6: 3 | AG6: 3 | AH6: 3 | AI6: 3 | AJ6: 3 | AK6: 3 | AL6: 3 | AM6: 3 | AN6: 3 | AO6: 3 | AP6: 3 | AQ6: 3
B8: Profit & Loss Statement (P&L)
B9: Revenue | F9: USD | H9: ='1. Revenue'!AI49 -> 0 | I9: ='1. Revenue'!AJ49 -> 0 | J9: ='1. Revenue'!AK49 -> 0 | K9: ='1. Revenue'!AL49 -> 0 | L9: ='1. Revenue'!AM49 -> 0 | M9: ='1. Revenue'!AN49 -> 0 | N9: ='1. Revenue'!AO49 -> 10355.753 | O9: ='1. Revenue'!AP49 -> 20711.506 | ... AQ9: ='1. Revenue'!BR49 -> 686029.93
B10: Operating Expenses | F10: USD | H10: =-'2. Expenses'!H17 -> -43565 | I10: =-'2. Expenses'!I17 -> -47165 | J10: =-'2. Expenses'!J17 -> -78665 | K10: =-'2. Expenses'!K17 -> -78665 | L10: =-'2. Expenses'!L17 -> -78665 | M10: =-'2. Expenses'!M17 -> -78665 | N10: =-'2. Expenses'!N17 -> -78665 | O10: =-'2. Expenses'!O17 -> -78665 | ... AQ10: =-'2. Expenses'!AQ17 -> -112937.82
B11: Gross Profit | F11: USD | H11: =H9+H10 -> -43565 | I11: =I9+I10 -> -47165 | J11: =J9+J10 -> -78665 | K11: =K9+K10 -> -78665 | L11: =L9+L10 -> -78665 | M11: =M9+M10 -> -78665 | N11: =N9+N10 -> -68309.247 | O11: =O9+O10 -> -57953.494 | ... AQ11: =AQ9+AQ10 -> 573092.12
B12: Gross Profit Margin | F12: % | H12: =IFERROR(MAX(H11/H9,0),0) -> 0 | I12: =IFERROR(MAX(I11/I9,0),0) -> 0 | J12: =IFERROR(MAX(J11/J9,0),0) -> 0 | K12: =IFERROR(MAX(K11/K9,0),0) -> 0 | L12: =IFERROR(MAX(L11/L9,0),0) -> 0 | M12: =IFERROR(MAX(M11/M9,0),0) -> 0 | N12: =IFERROR(MAX(N11/N9,0),0) -> 0 | O12: =IFERROR(MAX(O11/O9,0),0) -> 0 | ... AQ12: =IFERROR(MAX(AQ11/AQ9,0),0) -> 0.8353748
B13: Marketing and Selling Expenses | F13: USD | H13: =-'2. Expenses'!H46 -> -7438.9882 | I13: =-'2. Expenses'!I46 -> -12238.988 | J13: =-'2. Expenses'!J46 -> -16438.988 | K13: =-'2. Expenses'!K46 -> -12238.988 | L13: =-'2. Expenses'!L46 -> -12238.988 | M13: =-'2. Expenses'!M46 -> -16438.988 | N13: =-'2. Expenses'!N46 -> -16438.988 | O13: =-'2. Expenses'!O46 -> -16438.988 | ... AQ13: =-'2. Expenses'!AQ46 -> -23250.957
B14: General and Administrative Expenses | F14: USD | H14: =-'2. Expenses'!H60 -> -14500 | I14: =-'2. Expenses'!I60 -> -14500 | J14: =-'2. Expenses'!J60 -> -14500 | K14: =-'2. Expenses'!K60 -> -14500 | L14: =-'2. Expenses'!L60 -> -14500 | M14: =-'2. Expenses'!M60 -> -14500 | N14: =-'2. Expenses'!N60 -> -14500 | O14: =-'2. Expenses'!O60 -> -14500 | ... AQ14: =-'2. Expenses'!AQ60 -> -27368.249
B15: EBITDA Before Managerial Bonuses | F15: USD | H15: =H11+H13+H14 -> -65503.988 | I15: =I11+I13+I14 -> -73903.988 | J15: =J11+J13+J14 -> -109603.99 | K15: =K11+K13+K14 -> -105403.99 | L15: =L11+L13+L14 -> -105403.99 | M15: =M11+M13+M14 -> -109603.99 | N15: =N11+N13+N14 -> -99248.235 | O15: =O11+O13+O14 -> -88892.483 | ... AQ15: =AQ11+AQ13+AQ14 -> 522472.91
B16: EBITDA | F16: USD | H16: =H15-'2. Expenses'!H68 -> -65503.988 | I16: =I15-'2. Expenses'!I68 -> -73903.988 | J16: =J15-'2. Expenses'!J68 -> -109603.99 | K16: =K15-'2. Expenses'!K68 -> -105403.99 | L16: =L15-'2. Expenses'!L68 -> -105403.99 | M16: =M15-'2. Expenses'!M68 -> -109603.99 | N16: =N15-'2. Expenses'!N68 -> -99248.235 | O16: =O15-'2. Expenses'!O68 -> -88892.483 | ... AQ16: =AQ15-'2. Expenses'!AQ68 -> 509411.09
B17: EBITDA Margin | F17: % | H17: =IFERROR(MAX(H16/H9,0),0) -> 0 | I17: =IFERROR(MAX(I16/I9,0),0) -> 0 | J17: =IFERROR(MAX(J16/J9,0),0) -> 0 | K17: =IFERROR(MAX(K16/K9,0),0) -> 0 | L17: =IFERROR(MAX(L16/L9,0),0) -> 0 | M17: =IFERROR(MAX(M16/M9,0),0) -> 0 | N17: =IFERROR(MAX(N16/N9,0),0) -> 0 | O17: =IFERROR(MAX(O16/O9,0),0) -> 0 | ... AQ17: =IFERROR(MAX(AQ16/AQ9,0),0) -> 0.74254936
B18: Depreciation | F18: USD | H18: =-'2. Expenses'!H101 -> -69.047619 | I18: =-'2. Expenses'!I101 -> -92.857143 | J18: =-'2. Expenses'!J101 -> -164.28571 | K18: =-'2. Expenses'!K101 -> -211.90476 | L18: =-'2. Expenses'!L101 -> -211.90476 | M18: =-'2. Expenses'!M101 -> -211.90476 | N18: =-'2. Expenses'!N101 -> -211.90476 | O18: =-'2. Expenses'!O101 -> -211.90476 | ... AQ18: =-'2. Expenses'!AQ101 -> -314.04293
B19: EBIT | F19: USD | H19: =H16+H18 -> -65573.036 | I19: =I16+I18 -> -73996.845 | J19: =J16+J18 -> -109768.27 | K19: =K16+K18 -> -105615.89 | L19: =L16+L18 -> -105615.89 | M19: =M16+M18 -> -109815.89 | N19: =N16+N18 -> -99460.14 | O19: =O16+O18 -> -89104.387 | ... AQ19: =AQ16+AQ18 -> 509097.04
B20: Taxes | F20: USD | H20: =-'2. Expenses'!H103 -> -1109.25 | I20: =-'2. Expenses'!I103 -> -1705.95 | J20: =-'2. Expenses'!J103 -> -2027.25 | K20: =-'2. Expenses'!K103 -> -1705.95 | L20: =-'2. Expenses'!L103 -> -1705.95 | M20: =-'2. Expenses'!M103 -> -2027.25 | N20: =-'2. Expenses'!N103 -> -2027.25 | O20: =-'2. Expenses'!O103 -> -2027.25 | ... AQ20: =-'2. Expenses'!AQ103 -> -154702.44
B21: Net profit | F21: USD | H21: =H19+H20 -> -66682.286 | I21: =I19+I20 -> -75702.795 | J21: =J19+J20 -> -111795.52 | K21: =K19+K20 -> -107321.84 | L21: =L19+L20 -> -107321.84 | M21: =M19+M20 -> -111843.14 | N21: =N19+N20 -> -101487.39 | O21: =O19+O20 -> -91131.637 | ... AQ21: =AQ19+AQ20 -> 354394.6
B22: Net Profit Margin | F22: % | H22: =IFERROR(MAX(H21/H9,0),0) -> 0 | I22: =IFERROR(MAX(I21/I9,0),0) -> 0 | J22: =IFERROR(MAX(J21/J9,0),0) -> 0 | K22: =IFERROR(MAX(K21/K9,0),0) -> 0 | L22: =IFERROR(MAX(L21/L9,0),0) -> 0 | M22: =IFERROR(MAX(M21/M9,0),0) -> 0 | N22: =IFERROR(MAX(N21/N9,0),0) -> 0 | O22: =IFERROR(MAX(O21/O9,0),0) -> 0 | ... AQ22: =IFERROR(MAX(AQ21/AQ9,0),0) -> 0.51658767
B24: Cash Flow Statement
B25: EBIT | F25: USD | H25: =H19 -> -65573.036 | I25: =I19 -> -73996.845 | J25: =J19 -> -109768.27 | K25: =K19 -> -105615.89 | L25: =L19 -> -105615.89 | M25: =M19 -> -109815.89 | N25: =N19 -> -99460.14 | O25: =O19 -> -89104.387 | ... AQ25: =AQ19 -> 509097.04
B26: Depreciation | F26: USD | H26: =-H18 -> 69.047619 | I26: =-I18 -> 92.857143 | J26: =-J18 -> 164.28571 | K26: =-K18 -> 211.90476 | L26: =-L18 -> 211.90476 | M26: =-M18 -> 211.90476 | N26: =-N18 -> 211.90476 | O26: =-O18 -> 211.90476 | ... AQ26: =-AQ18 -> 314.04293
B27: Change in net working capital | F27: USD | H27: ='2. Expenses'!H84 -> 0 | I27: ='2. Expenses'!I84 -> 0 | J27: ='2. Expenses'!J84 -> 0 | K27: ='2. Expenses'!K84 -> 0 | L27: ='2. Expenses'!L84 -> 0 | M27: ='2. Expenses'!M84 -> 0 | N27: ='2. Expenses'!N84 -> 0 | O27: ='2. Expenses'!O84 -> 0 | ... AQ27: ='2. Expenses'!AQ84 -> 0
B28: Taxes | F28: USD | H28: =H20 -> -1109.25 | I28: =I20 -> -1705.95 | J28: =J20 -> -2027.25 | K28: =K20 -> -1705.95 | L28: =L20 -> -1705.95 | M28: =M20 -> -2027.25 | N28: =N20 -> -2027.25 | O28: =O20 -> -2027.25 | ... AQ28: =AQ20 -> -154702.44
B29: Capital expenditures | F29: USD | H29: =-'2. Expenses'!H93 -> -5800 | I29: =-'2. Expenses'!I93 -> -4000 | J29: =-'2. Expenses'!J93 -> -8000 | K29: =-'2. Expenses'!K93 -> 0 | L29: =-'2. Expenses'!L93 -> 0 | M29: =-'2. Expenses'!M93 -> 0 | N29: =-'2. Expenses'!N93 -> 0 | O29: =-'2. Expenses'!O93 -> 0 | ... AQ29: =-'2. Expenses'!AQ93 -> 0
B30: Cash and equivalents at the beginning of the period | F30: USD | H30: 0 | I30: =H32 -> -72413.238 | J30: =I32 -> -152023.18 | K30: =J32 -> -271654.41 | L30: =K32 -> -378764.35 | M30: =L32 -> -485874.29 | N30: =M32 -> -597505.53 | O30: =N32 -> -698781.01 | P30: =O32 -> -789700.75 | ... AQ30: =AP32 -> 2894093.5
B31: Net cash flows for the period | F31: USD | H31: =SUM(H25:H29) -> -72413.238 | I31: =SUM(I25:I29) -> -79609.938 | J31: =SUM(J25:J29) -> -119631.24 | K31: =SUM(K25:K29) -> -107109.94 | L31: =SUM(L25:L29) -> -107109.94 | M31: =SUM(M25:M29) -> -111631.24 | N31: =SUM(N25:N29) -> -101275.49 | O31: =SUM(O25:O29) -> -90919.733 | ... AQ31: =SUM(AQ25:AQ29) -> 354708.65
B32: Cash and equivalents at the end of the period | F32: USD | H32: =SUM(H30:H31) -> -72413.238 | I32: =SUM(I30:I31) -> -152023.18 | J32: =SUM(J30:J31) -> -271654.41 | K32: =SUM(K30:K31) -> -378764.35 | L32: =SUM(L30:L31) -> -485874.29 | M32: =SUM(M30:M31) -> -597505.53 | N32: =SUM(N30:N31) -> -698781.01 | O32: =SUM(O30:O31) -> -789700.75 | ... AQ32: =SUM(AQ30:AQ31) -> 3248802.2
B33: Equity injections | C33: 10% of all expenses in the first year (MVP) | F33: USD | G33: =-SUM(H10:S10,H13:S13,H14:S14)*10% -> 122704.79
B34: Additional equity injections (Cash Deficit) | F34: USD | H34: =IF((H32+$G$33+SUM($G34:G34))<0,-(H32+$G$33+SUM($G34:G34)),0) -> 0 | I34: =IF((I32+$G$33+SUM($G34:H34))<0,-(I32+$G$33+SUM($G34:H34)),0) -> 29318.391 | J34: =IF((J32+$G$33+SUM($G34:I34))<0,-(J32+$G$33+SUM($G34:I34)),0) -> 119631.24 | K34: =IF((K32+$G$33+SUM($G34:J34))<0,-(K32+$G$33+SUM($G34:J34)),0) -> 107109.94 | L34: =IF((L32+$G$33+SUM($G34:K34))<0,-(L32+$G$33+SUM($G34:K34)),0) -> 107109.94 | M34: =IF((M32+$G$33+SUM($G34:L34))<0,-(M32+$G$33+SUM($G34:L34)),0) -> 111631.24 | N34: =IF((N32+$G$33+SUM($G34:M34))<0,-(N32+$G$33+SUM($G34:M34)),0) -> 101275.49 | O34: =IF((O32+$G$33+SUM($G34:N34))<0,-(O32+$G$33+SUM($G34:N34)),0) -> 90919.733 | ... AQ34: =IF((AQ32+$G$33+SUM($G34:AP34))<0,-(AQ32+$G$33+SUM($G34:AP34)),0) -> 0
B36: Balance Sheet
B37: Non-current assets | F37: USD | H37: =SUM(H38:H38) -> 5730.9524 | I37: =SUM(I38:I38) -> 9638.0952 | J37: =SUM(J38:J38) -> 17473.81 | K37: =SUM(K38:K38) -> 17261.905 | L37: =SUM(L38:L38) -> 17050 | M37: =SUM(M38:M38) -> 16838.095 | N37: =SUM(N38:N38) -> 16626.19 | O37: =SUM(O38:O38) -> 16414.286 | ... AQ37: =SUM(AQ38:AQ38) -> 16660.312
B38: Fixed assets (Net book value) | F38: USD | H38: ='2. Expenses'!H97 -> 5730.9524 | I38: ='2. Expenses'!I97 -> 9638.0952 | J38: ='2. Expenses'!J97 -> 17473.81 | K38: ='2. Expenses'!K97 -> 17261.905 | L38: ='2. Expenses'!L97 -> 17050 | M38: ='2. Expenses'!M97 -> 16838.095 | N38: ='2. Expenses'!N97 -> 16626.19 | O38: ='2. Expenses'!O97 -> 16414.286 | ... AQ38: ='2. Expenses'!AQ97 -> 16660.312
B39: Current assets | F39: USD | H39: =SUM(H40:H42) -> 50291.548 | I39: =SUM(I40:I42) -> 0 | J39: =SUM(J40:J42) -> 0 | K39: =SUM(K40:K42) -> 0 | L39: =SUM(L40:L42) -> 0 | M39: =SUM(M40:M42) -> 0 | N39: =SUM(N40:N42) -> 0 | O39: =SUM(O40:O42) -> 0 | ... AQ39: =SUM(AQ40:AQ42) -> 4351063.9
B40: Accounts receivable | C40: Not considered in the model | F40: USD | H40: 0 | I40: 0 | J40: 0 | K40: 0 | L40: 0 | M40: 0 | N40: 0 | O40: 0 | P40: 0 | Q40: 0 | R40: 0 | S40: 0 | T40: 0 | U40: 0 | V40: 0 | W40: 0 | X40: 0 | Y40: 0 | Z40: 0 | AA40: 0 | AB40: 0 | AC40: 0 | AD40: 0 | AE40: 0 | AF40: 0 | AG40: 0 | AH40: 0 | AI40: 0 | AJ40: 0 | AK40: 0 | AL40: 0 | AM40: 0 | AN40: 0 | AO40: 0 | AP40: 0 | AQ40: 0
B41: VAT receivable | C41: Not considered in the model | F41: USD | H41: 0 | I41: 0 | J41: 0 | K41: 0 | L41: 0 | M41: 0 | N41: 0 | O41: 0 | P41: 0 | Q41: 0 | R41: 0 | S41: 0 | T41: 0 | U41: 0 | V41: 0 | W41: 0 | X41: 0 | Y41: 0 | Z41: 0 | AA41: 0 | AB41: 0 | AC41: 0 | AD41: 0 | AE41: 0 | AF41: 0 | AG41: 0 | AH41: 0 | AI41: 0 | AJ41: 0 | AK41: 0 | AL41: 0 | AM41: 0 | AN41: 0 | AO41: 0 | AP41: 0 | AQ41: 0
B42: Cash and equivalents | F42: USD | H42: =(H32+$G$33+SUM($H34:H34)) -> 50291.548 | I42: =(I32+$G$33+SUM($H34:I34)) -> 0 | J42: =(J32+$G$33+SUM($H34:J34)) -> 0 | K42: =(K32+$G$33+SUM($H34:K34)) -> 0 | L42: =(L32+$G$33+SUM($H34:L34)) -> 0 | M42: =(M32+$G$33+SUM($H34:M34)) -> 0 | N42: =(N32+$G$33+SUM($H34:N34)) -> 0 | O42: =(O32+$G$33+SUM($H34:O34)) -> 0 | ... AQ42: =(AQ32+$G$33+SUM($H34:AQ34)) -> 4351063.9
B43: Total Assets | F43: USD | H43: =H37+H39 -> 56022.5 | I43: =I37+I39 -> 9638.0952 | J43: =J37+J39 -> 17473.81 | K43: =K37+K39 -> 17261.905 | L43: =L37+L39 -> 17050 | M43: =M37+M39 -> 16838.095 | N43: =N37+N39 -> 16626.19 | O43: =O37+O39 -> 16414.286 | ... AQ43: =AQ37+AQ39 -> 4367724.2
B44: Shareholder's equity | F44: USD | H44: =SUM(H45:H47) -> 56022.5 | I44: =SUM(I45:I47) -> 9638.0952 | J44: =SUM(J45:J47) -> 17473.81 | K44: =SUM(K45:K47) -> 17261.905 | L44: =SUM(L45:L47) -> 17050 | M44: =SUM(M45:M47) -> 16838.095 | N44: =SUM(N45:N47) -> 16626.19 | O44: =SUM(O45:O47) -> 16414.286 | ... AQ44: =SUM(AQ45:AQ47) -> 4367724.2
B45: Shareholder's equity | F45: USD | G45: =G33 -> 122704.79 | H45: =G45+H33 -> 122704.79 | I45: =H45+I33 -> 122704.79 | J45: =I45+J33 -> 122704.79 | K45: =J45+K33 -> 122704.79 | L45: =K45+L33 -> 122704.79 | M45: =L45+M33 -> 122704.79 | N45: =M45+N33 -> 122704.79 | O45: =N45+O33 -> 122704.79 | ... AQ45: =AP45+AQ33 -> 122704.79
...

Sheet 4. Summary
C2: NPV | D2: IRR | E2: DPP
C3: k USD | D3: % per year | E3: mo.
B4: Choose Scenario ⯆ | C4: =E26/1000 -> 851.57774 | D4: =E32 -> 0.39185404 | E4: =E35 -> 17
B5: Blue Sky Scenario | C5: =_xlfn.CONCAT("Max Market Share = ",TEXT(MAX(F9:AO9),"0.0%")) -> Max Market Share = 6.6% | F5: Phase 1 | G5: Phase 1 | H5: Phase 2 | I5: Phase 2 | J5: Phase 2 | K5: Phase 2 | L5: Phase 2 | M5: Phase 2 | N5: Phase 2 | O5: Phase 2 | P5: Phase 2 | Q5: Phase 2 | R5: Phase 3 | S5: Phase 3 | T5: Phase 3 | U5: Phase 3 | V5: Phase 3 | W5: Phase 3 | X5: Phase 3 | Y5: Phase 3 | Z5: Phase 3 | AA5: Phase 3 | AB5: Phase 3 | AC5: Phase 3 | AD5: Phase 3 | AE5: Phase 3 | AF5: Phase 3 | AG5: Phase 3 | AH5: Phase 3 | AI5: Phase 3 | AJ5: Phase 3 | AK5: Phase 3 | AL5: Phase 3 | AM5: Phase 3 | AN5: Phase 3 | AO5: Phase 3
B6: Groups / Metrics | C6: Sparklines | D6: Units | E6: Initial / Base | F6: 45292 | G6: 45323 | H6: 45352 | I6: 45383 | J6: 45413 | K6: 45444 | L6: 45474 | M6: 45505 | N6: 45536 | O6: 45566 | P6: 45597 | Q6: 45627 | R6: 45658 | S6: 45689 | T6: 45717 | U6: 45748 | V6: 45778 | W6: 45809 | X6: 45839 | Y6: 45870 | Z6: 45901 | AA6: 45931 | AB6: 45962 | AC6: 45992 | AD6: 46023 | AE6: 46054 | AF6: 46082 | AG6: 46113 | AH6: 46143 | AI6: 46174 | AJ6: 46204 | AK6: 46235 | AL6: 46266 | AM6: 46296 | AN6: 46327 | AO6: 46357
B7: Month | E7: 0 | F7: 1 | G7: 2 | H7: 3 | I7: 4 | J7: 5 | K7: 6 | L7: 7 | M7: 8 | N7: 9 | O7: 10 | P7: 11 | Q7: 12 | R7: 13 | S7: 14 | T7: 15 | U7: 16 | V7: 17 | W7: 18 | X7: 19 | Y7: 20 | Z7: 21 | AA7: 22 | AB7: 23 | AC7: 24 | AD7: 25 | AE7: 26 | AF7: 27 | AG7: 28 | AH7: 29 | AI7: 30 | AJ7: 31 | AK7: 32 | AL7: 33 | AM7: 34 | AN7: 35 | AO7: 36
B8: Year | E8: 0 | F8: 1 | G8: 1 | H8: 1 | I8: 1 | J8: 1 | K8: 1 | L8: 1 | M8: 1 | N8: 1 | O8: 1 | P8: 1 | Q8: 1 | R8: 2 | S8: 2 | T8: 2 | U8: 2 | V8: 2 | W8: 2 | X8: 2 | Y8: 2 | Z8: 2 | AA8: 2 | AB8: 2 | AC8: 2 | AD8: 3 | AE8: 3 | AF8: 3 | AG8: 3 | AH8: 3 | AI8: 3 | AJ8: 3 | AK8: 3 | AL8: 3 | AM8: 3 | AN8: 3 | AO8: 3
B9: Our Share in the Target Segment | D9: % | F9: =VLOOKUP($B$5,$B$10:$AO$12,F7+4) -> 0 | G9: =VLOOKUP($B$5,$B$10:$AO$12,G7+4) -> 0 | H9: =VLOOKUP($B$5,$B$10:$AO$12,H7+4) -> 0 | I9: =VLOOKUP($B$5,$B$10:$AO$12,I7+4) -> 0 | J9: =VLOOKUP($B$5,$B$10:$AO$12,J7+4) -> 0 | K9: =VLOOKUP($B$5,$B$10:$AO$12,K7+4) -> 0 | L9: =VLOOKUP($B$5,$B$10:$AO$12,L7+4) -> 0.0011 | M9: =VLOOKUP($B$5,$B$10:$AO$12,M7+4) -> 0.0022 | ... AO9: =VLOOKUP($B$5,$B$10:$AO$12,AO7+4) -> 0.066
B10: Blue Sky Scenario | F10: =F11*1.1 -> 0 | G10: =G11*1.1 -> 0 | H10: =H11*1.1 -> 0 | I10: =I11*1.1 -> 0 | J10: =J11*1.1 -> 0 | K10: =K11*1.1 -> 0 | L10: =L11*1.1 -> 0.0011 | M10: =M11*1.1 -> 0.0022 | ... AO10: =AO11*1.1 -> 0.066
B11: Grey Sky Scenario | F11: 0 | G11: 0 | H11: 0 | I11: 0 | J11: 0 | K11: 0 | L11: 0.001 | M11: 0.002 | N11: 0.003 | O11: 0.005 | P11: 0.007 | Q11: 0.01 | R11: 0.01 | S11: 0.013 | T11: 0.012 | U11: 0.013 | V11: 0.016 | W11: 0.019 | X11: 0.022 | Y11: 0.025 | Z11: 0.028 | AA11: 0.031 | AB11: 0.034 | AC11: 0.037 | AD11: 0.04 | AE11: 0.043 | AF11: 0.046 | AG11: 0.049 | AH11: 0.052 | AI11: 0.055 | AJ11: 0.058 | AK11: 0.06 | AL11: 0.06 | AM11: 0.06 | AN11: 0.06 | AO11: 0.06
B12: Stormy Weather Scenario | F12: =F11*0.9 -> 0 | G12: =G11*0.9 -> 0 | H12: =H11*0.9 -> 0 | I12: =I11*0.9 -> 0 | J12: =J11*0.9 -> 0 | K12: =K11*0.9 -> 0 | L12: =L11*0.9 -> 0.0009 | M12: =M11*0.9 -> 0.0018 | ... AO12: =AO11*0.9 -> 0.054
B14: Weighted Average Cost of Capital (WACC) | D14: % per mo. | F14: =(1+'Calc. WACC'!$C$16)^(1/12)-1 -> 0.012951904 | G14: =(1+'Calc. WACC'!$C$16)^(1/12)-1 -> 0.012951904 | H14: =(1+'Calc. WACC'!$C$16)^(1/12)-1 -> 0.012951904 | I14: =(1+'Calc. WACC'!$C$16)^(1/12)-1 -> 0.012951904 | J14: =(1+'Calc. WACC'!$C$16)^(1/12)-1 -> 0.012951904 | K14: =(1+'Calc. WACC'!$C$16)^(1/12)-1 -> 0.012951904 | L14: =(1+'Calc. WACC'!$C$16)^(1/12)-1 -> 0.012951904 | M14: =(1+'Calc. WACC'!$C$16)^(1/12)-1 -> 0.012951904 | ... Q14: =(1+'Calc. WACC'!$C$16)^(1/12)-1 -> 0.012951904 | R14: =(1+'Calc. WACC'!$D$16)^(1/12)-1 -> 0.012882304 | S14: =(1+'Calc. WACC'!$D$16)^(1/12)-1 -> 0.012882304 | T14: =(1+'Calc. WACC'!$D$16)^(1/12)-1 -> 0.012882304 | U14: =(1+'Calc. WACC'!$D$16)^(1/12)-1 -> 0.012882304 | V14: =(1+'Calc. WACC'!$D$16)^(1/12)-1 -> 0.012882304 | W14: =(1+'Calc. WACC'!$D$16)^(1/12)-1 -> 0.012882304 | X14: =(1+'Calc. WACC'!$D$16)^(1/12)-1 -> 0.012882304 | Y14: =(1+'Calc. WACC'!$D$16)^(1/12)-1 -> 0.012882304 | ... AC14: =(1+'Calc. WACC'!$D$16)^(1/12)-1 -> 0.012882304 | AD14: =(1+'Calc. WACC'!$E$16)^(1/12)-1 -> 0.014273484 | AE14: =(1+'Calc. WACC'!$E$16)^(1/12)-1 -> 0.014273484 | AF14: =(1+'Calc. WACC'!$E$16)^(1/12)-1 -> 0.014273484 | AG14: =(1+'Calc. WACC'!$E$16)^(1/12)-1 -> 0.014273484 | AH14: =(1+'Calc. WACC'!$E$16)^(1/12)-1 -> 0.014273484 | AI14: =(1+'Calc. WACC'!$E$16)^(1/12)-1 -> 0.014273484 | AJ14: =(1+'Calc. WACC'!$E$16)^(1/12)-1 -> 0.014273484 | AK14: =(1+'Calc. WACC'!$E$16)^(1/12)-1 -> 0.014273484 | ... AO14: =(1+'Calc. WACC'!$E$16)^(1/12)-1 -> 0.014273484
B15: Free Cash Flow (FCF) | D15: USD | E15: =-E25 -> -1016114.1 | F15: ='3. Statements'!H31 -> -72413.238 | G15: ='3. Statements'!I31 -> -79609.938 | H15: ='3. Statements'!J31 -> -119631.24 | I15: ='3. Statements'!K31 -> -107109.94 | J15: ='3. Statements'!L31 -> -107109.94 | K15: ='3. Statements'!M31 -> -111631.24 | L15: ='3. Statements'!N31 -> -101275.49 | M15: ='3. Statements'!O31 -> -90919.733 | ... AO15: ='3. Statements'!AQ31 -> 354708.65
B16: Discounted Free Cash Flow (DFCF) | D16: USD | E16: =E15/((1+E14)^E7) -> -1016114.1 | F16: =F15/((1+F14)^F7) -> -71487.341 | G16: =G15/((1+G14)^G7) -> -77587.121 | H16: =H15/((1+H14)^H7) -> -115100.74 | I16: =I15/((1+I14)^I7) -> -101735.96 | J16: =J15/((1+J14)^J7) -> -100435.13 | K16: =K15/((1+K14)^K7) -> -103336.27 | L16: =L15/((1+L14)^L7) -> -92551.307 | ... AO16: =AO15/((1+AO14)^AO7) -> 212955.66
B17: Investments Cash Flow (ICF) | D17: USD | E17: ='3. Statements'!G33 -> 122704.79 | F17: ='3. Statements'!H34 -> 0 | G17: ='3. Statements'!I34 -> 29318.391 | H17: ='3. Statements'!J34 -> 119631.24 | I17: ='3. Statements'!K34 -> 107109.94 | J17: ='3. Statements'!L34 -> 107109.94 | K17: ='3. Statements'!M34 -> 111631.24 | L17: ='3. Statements'!N34 -> 101275.49 | M17: ='3. Statements'!O34 -> 90919.733 | ... AO17: ='3. Statements'!AQ34 -> 0
B18: Discounted Investments Cash Flow (DICF) | D18: USD | E18: =E17/((1+E14)^E7) -> 122704.79 | F18: =F17/((1+F14)^F7) -> 0 | G18: =G17/((1+G14)^G7) -> 28573.437 | H18: =H17/((1+H14)^H7) -> 115100.74 | I18: =I17/((1+I14)^I7) -> 101735.96 | J18: =J17/((1+J14)^J7) -> 100435.13 | K18: =K17/((1+K14)^K7) -> 103336.27 | L18: =L17/((1+L14)^L7) -> 92551.307 | ... AO18: =AO17/((1+AO14)^AO7) -> 0
B19: Payback Period (PP) | D19: Y/N | F19: =IF(MIN(F15:$AO15)<0,IF(MAX(G19:$AO19)=1,0,1),0) -> 0 | G19: =IF(MIN(G15:$AO15)<0,IF(MAX(H19:$AO19)=1,0,1),0) -> 0 | H19: =IF(MIN(H15:$AO15)<0,IF(MAX(I19:$AO19)=1,0,1),0) -> 0 | I19: =IF(MIN(I15:$AO15)<0,IF(MAX(J19:$AO19)=1,0,1),0) -> 0 | J19: =IF(MIN(J15:$AO15)<0,IF(MAX(K19:$AO19)=1,0,1),0) -> 0 | K19: =IF(MIN(K15:$AO15)<0,IF(MAX(L19:$AO19)=1,0,1),0) -> 0 | L19: =IF(MIN(L15:$AO15)<0,IF(MAX(M19:$AO19)=1,0,1),0) -> 0 | M19: =IF(MIN(M15:$AO15)<0,IF(MAX(N19:$AO19)=1,0,1),0) -> 0 | ... AN19: =IF(MIN(AN15:$AO15)<0,IF(MAX(AO19:$AO19)=1,0,1),0) -> 0 | AO19: =IF(MIN(AO15:$AO15)<0,1,0) -> 0
B20: Discounted Payback Period (DPP) | D20: Y/N | F20: =IF(MIN(F16:$AO16)<0,IF(MAX(G20:$AO20)=1,0,1),0) -> 0 | G20: =IF(MIN(G16:$AO16)<0,IF(MAX(H20:$AO20)=1,0,1),0) -> 0 | H20: =IF(MIN(H16:$AO16)<0,IF(MAX(I20:$AO20)=1,0,1),0) -> 0 | I20: =IF(MIN(I16:$AO16)<0,IF(MAX(J20:$AO20)=1,0,1),0) -> 0 | J20: =IF(MIN(J16:$AO16)<0,IF(MAX(K20:$AO20)=1,0,1),0) -> 0 | K20: =IF(MIN(K16:$AO16)<0,IF(MAX(L20:$AO20)=1,0,1),0) -> 0 | L20: =IF(MIN(L16:$AO16)<0,IF(MAX(M20:$AO20)=1,0,1),0) -> 0 | M20: =IF(MIN(M16:$AO16)<0,IF(MAX(N20:$AO20)=1,0,1),0) -> 0 | ... AN20: =IF(MIN(AN16:$AO16)<0,IF(MAX(AO20:$AO20)=1,0,1),0) -> 0 | AO20: =IF(MIN(AO16:$AO16)<0,1,0) -> 0
B22: Efficiency Metrics
B23: Groups / Metrics | C23: Abbreviation | D23: Units | E23: Value
B24: Present Value | C24: PV | D24: USD | E24: =SUM(F16:AO16) -> 1867691.8
B25: Investments PV | C25: IPV | D25: USD | E25: =SUM(E18:AO18) -> 1016114.1
B26: Net Present Value | C26: NPV | D26: USD | E26: =SUM(E16:AO16) -> 851577.74
B27: Terminal Value | C27: TeV | D27: USD | E27: =AO15*(1+E31)/(E30-E31) -> 1892101.5
B28: Total Value | C28: TV | D28: USD | E28: =E27+E26 -> 2743679.3
B29: Weighted Average Cost of Capital (Project) | C29: WACC | D29: % per year | E29: =AVERAGE('Calc. WACC'!C16:E16) -> 0.17280015
B30: Weighted Average Cost of Capital (Long Term) | C30: WACC (2027+) | D30: % per year | E30: ='Calc. WACC'!F16 -> 0.18758683
B31: Growth Rate (Long Term) | C31: GR (2027+) | D31: % per mo. | E31: 0.0001
B32: Internal Rate of Return | C32: IRR | D32: % per year | E32: =(IRR(E15:AO15)+1)^12-1 -> 0.39185404
B33: Profitability Index | C33: PI | D33: USD | E33: =E24/E25 -> 1.8380729
B34: Payback Period | C34: PP | D34: mo. | E34: =INDEX(F7:AO7,1,MATCH(1,F19:AO19,0))+1 -> 17
B35: Discounted Payback Period | C35: DPP | D35: mo. | E35: =INDEX(F7:AO7,1,MATCH(1,F20:AO20,0))+1 -> 17
B37: Customers Lifetime Value (CLTV) Matrix | F37: Glancers | G37: Thinkers | H37: Doers | I37: Improvers | J37: Parents 2.0
B38: Average Customer Lifespan = Purchase Frequency | D38: mo. | F38: 1 | G38: 3 | H38: 6 | I38: 12 | J38: 24
B39: Average Purchase Value | D39: USD | F39: ='1. Revenue'!G49 -> 19.99 | G39: ='1. Revenue'!G49 -> 19.99 | H39: ='1. Revenue'!G49 -> 19.99 | I39: ='1. Revenue'!G49 -> 19.99 | J39: ='1. Revenue'!G49 -> 19.99
B40: LTV Weighted Average | D40: USD | F40: =F38*F39 -> 19.99 | G40: =G38*G39 -> 59.97 | H40: =H38*H39 -> 119.94 | I40: =I38*I39 -> 239.88 | J40: =J38*J39 -> 479.76
B42: Supportive Calculations
B43: 1. Gague Chart
B45: Scale - Stats | C45: Value
B46: Start | C46: 0
...

Sheet Calc. Inflation (CPI)
D2: 3 year inflation forecast using model with the minimal Mean Squared Error (MSE)
B4: Source | C4: OECD | H4: =IF(I6=MIN($I$6,$K$6,$M$6,$O$6,$Q$6,$S$6,$U$6,$W$6,$Y$6),"⯆","-") -> - | J4: =IF(K6=MIN($I$6,$K$6,$M$6,$O$6,$Q$6,$S$6,$U$6,$W$6,$Y$6),"⯆","-") -> - | L4: =IF(M6=MIN($I$6,$K$6,$M$6,$O$6,$Q$6,$S$6,$U$6,$W$6,$Y$6),"⯆","-") -> - | N4: =IF(O6=MIN($I$6,$K$6,$M$6,$O$6,$Q$6,$S$6,$U$6,$W$6,$Y$6),"⯆","-") -> - | P4: =IF(Q6=MIN($I$6,$K$6,$M$6,$O$6,$Q$6,$S$6,$U$6,$W$6,$Y$6),"⯆","-") -> - | R4: =IF(S6=MIN($I$6,$K$6,$M$6,$O$6,$Q$6,$S$6,$U$6,$W$6,$Y$6),"⯆","-") -> - | T4: =IF(U6=MIN($I$6,$K$6,$M$6,$O$6,$Q$6,$S$6,$U$6,$W$6,$Y$6),"⯆","-") -> - | V4: =IF(W6=MIN($I$6,$K$6,$M$6,$O$6,$Q$6,$S$6,$U$6,$W$6,$Y$6),"⯆","-") -> - | X4: =IF(Y6=MIN($I$6,$K$6,$M$6,$O$6,$Q$6,$S$6,$U$6,$W$6,$Y$6),"⯆","-") -> ⯆
F5: Year | G5: CPI % Change | H5: Mov. AVG 3 | I5: MSE | J5: Mov. AVG 4 | K5: MSE | L5: Mov. AVG 5 | M5: MSE | N5: Mov. AVG 7 | O5: MSE | P5: Mov. AVG 10 | Q5: MSE | R5: Mov. AVG 15 | S5: MSE | T5: Mov. AVG 20 | U5: MSE | V5: Exp. Sm. a = .3 | W5: MSE | X5: Exp. Sm. a = .4 | Y5: MSE
I6: =AVERAGE(I10:I69) -> 0.00049199955 | K6: =AVERAGE(K11:K69) -> 0.0005114638 | M6: =AVERAGE(M12:M69) -> 0.00051847911 | O6: =AVERAGE(O14:O69) -> 0.00058721319 | Q6: =AVERAGE(Q17:Q69) -> 0.00067247452 | S6: =AVERAGE(S22:S69) -> 0.0006854201 | U6: =AVERAGE(U27:U69) -> 0.00054066501 | W6: =AVERAGE(W8:W69) -> 0.00043744684 | Y6: =AVERAGE(Y8:Y69) -> 0.00039831416
F7: 1961 | G7: 0.010703622
F8: 1962 | G8: 0.011760771 | V8: =G7 -> 0.010703622 | W8: =(V8-$G8)^2 -> 1.1175642e-06 | X8: =G7 -> 0.010703622 | Y8: =(X8-$G8)^2 -> 1.1175642e-06
F9: 1963 | G9: 0.012560599 | V9: =0.3*G8+0.7*V8 -> 0.011020767 | W9: =(V9-$G9)^2 -> 2.3710836e-06 | X9: =0.4*G8+0.6*X8 -> 0.011126482 | Y9: =(X9-$G9)^2 -> 2.0566928e-06
F10: 1964 | G10: 0.013220892 | H10: =AVERAGE(G7:G9) -> 0.011674998 | I10: =(H10-$G10)^2 -> 2.38979e-06 | V10: =0.3*G9+0.7*V9 -> 0.011482717 | W10: =(V10-$G10)^2 -> 3.0212541e-06 | X10: =0.4*G9+0.6*X9 -> 0.011700129 | Y10: =(X10-$G10)^2 -> 2.3127211e-06
F11: 1965 | G11: 0.01578693 | H11: =AVERAGE(G8:G10) -> 0.012514088 | I11: =(H11-$G11)^2 -> 1.0711498e-05 | J11: =AVERAGE(G7:G10) -> 0.012061471 | K11: =(J11-$G11)^2 -> 1.3879043e-05 | V11: =0.3*G10+0.7*V10 -> 0.012004169 | W11: =(V11-$G11)^2 -> 1.4309279e-05 | X11: =0.4*G10+0.6*X10 -> 0.012308434 | Y11: =(X11-$G11)^2 -> 1.2099934e-05
F12: 1966 | G12: 0.029893746 | H12: =AVERAGE(G9:G11) -> 0.013856141 | I12: =(H12-$G12)^2 -> 0.0002572048 | J12: =AVERAGE(G8:G11) -> 0.013332298 | K12: =(J12-$G12)^2 -> 0.00027428156 | L12: =AVERAGE(G7:G11) -> 0.012806563 | M12: =(L12-$G12)^2 -> 0.00029197183 | V12: =0.3*G11+0.7*V11 -> 0.013138998 | W12: =(V12-$G12)^2 -> 0.00028072161 | X12: =0.4*G11+0.6*X11 -> 0.013699833 | Y12: =(X12-$G12)^2 -> 0.00026224284
F13: 1967 | G13: 0.027845502 | H13: =AVERAGE(G10:G12) -> 0.019633856 | I13: =(H13-$G13)^2 -> 6.7431132e-05 | J13: =AVERAGE(G9:G12) -> 0.017865542 | K13: =(J13-$G13)^2 -> 9.9599608e-05 | L13: =AVERAGE(G8:G12) -> 0.016644588 | M13: =(L13-$G13)^2 -> 0.00012546048 | V13: =0.3*G12+0.7*V12 -> 0.018165422 | W13: =(V13-$G13)^2 -> 9.3703951e-05 | X13: =0.4*G12+0.6*X12 -> 0.020177398 | Y13: =(X13-$G13)^2 -> 5.8799823e-05
F14: 1968 | G14: 0.042446941 | H14: =AVERAGE(G11:G13) -> 0.024508726 | I14: =(H14-$G14)^2 -> 0.00032177956 | J14: =AVERAGE(G10:G13) -> 0.021686768 | K14: =(J14-$G14)^2 -> 0.00043098481 | L14: =AVERAGE(G9:G13) -> 0.019861534 | M14: =(L14-$G14)^2 -> 0.00051010062 | N14: =AVERAGE(G7:G13) -> 0.017396009 | O14: =(N14-$G14)^2 -> 0.0006275492 | V14: =0.3*G13+0.7*V13 -> 0.021069446 | W14: =(V14-$G14)^2 -> 0.00045699729 | X14: =0.4*G13+0.6*X13 -> 0.02324464 | Y14: =(X14-$G14)^2 -> 0.00036872838
F15: 1969 | G15: 0.054371257 | H15: =AVERAGE(G12:G14) -> 0.033395397 | I15: =(H15-$G15)^2 -> 0.00043998674 | J15: =AVERAGE(G11:G14) -> 0.02899328 | K15: =(J15-$G15)^2 -> 0.00064404174 | L15: =AVERAGE(G10:G14) -> 0.025838802 | M15: =(L15-$G15)^2 -> 0.00081410099 | N15: =AVERAGE(G8:G14) -> 0.021930769 | O15: =(N15-$G15)^2 -> 0.0010523853 | V15: =0.3*G14+0.7*V14 -> 0.027482695 | W15: =(V15-$G15)^2 -> 0.0007229948 | X15: =0.4*G14+0.6*X14 -> 0.03092556 | Y15: =(X15-$G15)^2 -> 0.00054970071
F16: 1970 | G16: 0.058836892 | H16: =AVERAGE(G13:G15) -> 0.041554567 | I16: =(H16-$G16)^2 -> 0.00029867877 | J16: =AVERAGE(G12:G15) -> 0.038639362 | K16: =(J16-$G16)^2 -> 0.00040794024 | L16: =AVERAGE(G11:G15) -> 0.034068876 | M16: =(L16-$G16)^2 -> 0.00061345466 | N16: =AVERAGE(G9:G15) -> 0.028017981 | O16: =(N16-$G16)^2 -> 0.00094980527 | V16: =0.3*G15+0.7*V15 -> 0.035549264 | W16: =(V16-$G16)^2 -> 0.00054231365 | X16: =0.4*G15+0.6*X15 -> 0.040303839 | Y16: =(X16-$G16)^2 -> 0.00034347406
F17: 1971 | G17: 0.042265608 | H17: =AVERAGE(G14:G16) -> 0.05188503 | I17: =(H17-$G17)^2 -> 9.2533282e-05 | J17: =AVERAGE(G13:G16) -> 0.045875148 | K17: =(J17-$G17)^2 -> 1.302878e-05 | L17: =AVERAGE(G12:G16) -> 0.042678868 | M17: =(L17-$G17)^2 -> 1.7078361e-07 | N17: =AVERAGE(G10:G16) -> 0.03462888 | O17: =(N17-$G17)^2 -> 5.8319613e-05 | P17: =AVERAGE(G7:G16) -> 0.027742716 | Q17: =(P17-$G17)^2 -> 0.00021091441 | V17: =0.3*G16+0.7*V16 -> 0.042535552 | W17: =(V17-$G17)^2 -> 7.2869753e-08 | X17: =0.4*G16+0.6*X16 -> 0.04771706 | Y17: =(X17-$G17)^2 -> 2.9718332e-05
F18: 1972 | G18: 0.032729518 | H18: =AVERAGE(G15:G17) -> 0.051824586 | I18: =(H18-$G18)^2 -> 0.00036462161 | J18: =AVERAGE(G14:G17) -> 0.049480175 | K18: =(J18-$G18)^2 -> 0.00028058449 | L18: =AVERAGE(G13:G17) -> 0.04515324 | M18: =(L18-$G18)^2 -> 0.00015434887 | N18: =AVERAGE(G11:G17) -> 0.038778125 | O18: =(N18-$G18)^2 -> 3.6585648e-05 | P18: =AVERAGE(G8:G17) -> 0.030898914 | Q18: =(P18-$G18)^2 -> 3.3511117e-06 | V18: =0.3*G17+0.7*V17 -> 0.042454569 | W18: =(V18-$G18)^2 -> 9.4576611e-05 | X18: =0.4*G17+0.6*X17 -> 0.04553648 | Y18: =(X18-$G18)^2 -> 0.00016401826
F19: 1973 | G19: 0.062587204 | H19: =AVERAGE(G16:G18) -> 0.044610673 | I19: =(H19-$G19)^2 -> 0.00032315565 | J19: =AVERAGE(G15:G18) -> 0.047050819 | K19: =(J19-$G19)^2 -> 0.00024137924 | L19: =AVERAGE(G14:G18) -> 0.046130044 | M19: =(L19-$G19)^2 -> 0.00027083811 | N19: =AVERAGE(G12:G18) -> 0.041198495 | O19: =(N19-$G19)^2 -> 0.00045747684 | P19: =AVERAGE(G9:G18) -> 0.032995789 | Q19: =(P19-$G19)^2 -> 0.00087565182 | V19: =0.3*G18+0.7*V18 -> 0.039537054 | W19: =(V19-$G19)^2 -> 0.0005313094 | X19: =0.4*G18+0.6*X18 -> 0.040413695 | Y19: =(X19-$G19)^2 -> 0.00049166448
B20: Year | C20: Forecast | F20: 1974 | G20: 0.11011067 | H20: =AVERAGE(G17:G19) -> 0.045860777 | I20: =(H20-$G20)^2 -> 0.0041280492 | J20: =AVERAGE(G16:G19) -> 0.049104806 | K20: =(J20-$G20)^2 -> 0.0037217159 | L20: =AVERAGE(G15:G19) -> 0.050158096 | M20: =(L20-$G20)^2 -> 0.0035943115 | N20: =AVERAGE(G13:G19) -> 0.045868989 | O20: =(N20-$G20)^2 -> 0.004126994 | P20: =AVERAGE(G10:G19) -> 0.037998449 | Q20: =(P20-$G20)^2 -> 0.0052001729 | V20: =0.3*G19+0.7*V19 -> 0.046452099 | W20: =(V20-$G20)^2 -> 0.0040524141 | X20: =0.4*G19+0.6*X19 -> 0.049283098 | Y20: =(X20-$G20)^2 -> 0.0036999939
B21: 2024 | C21: =X70 -> 0.046293447 | F21: 1975 | G21: 0.091416019 | H21: =AVERAGE(G18:G20) -> 0.068475798 | I21: =(H21-$G21)^2 -> 0.00052625372 | J21: =AVERAGE(G17:G20) -> 0.061923251 | K21: =(J21-$G21)^2 -> 0.00086982337 | L21: =AVERAGE(G16:G20) -> 0.061305979 | M21: =(L21-$G21)^2 -> 0.00090661449 | N21: =AVERAGE(G14:G20) -> 0.057621156 | O21: =(N21-$G21)^2 -> 0.0011420927 | P21: =AVERAGE(G11:G20) -> 0.047687427 | Q21: =(P21-$G21)^2 -> 0.0019121897 | V21: =0.3*G20+0.7*V20 -> 0.065549671 | W21: =(V21-$G21)^2 -> 0.00066906795 | X21: =0.4*G20+0.6*X20 -> 0.073614128 | Y21: =(X21-$G21)^2 -> 0.0003169073
